BEGIN:VCALENDAR
VERSION:2.0
PRODID:-//Deception Pass Golf Center - ECPv6.15.18//NONSGML v1.0//EN
CALSCALE:GREGORIAN
METHOD:PUBLISH
X-WR-CALNAME:Deception Pass Golf Center
X-ORIGINAL-URL:https://www.deceptionpassgolfcenter.com
X-WR-CALDESC:Events for Deception Pass Golf Center
REFRESH-INTERVAL;VALUE=DURATION:PT1H
X-Robots-Tag:noindex
X-PUBLISHED-TTL:PT1H
BEGIN:VTIMEZONE
TZID:UTC
BEGIN:STANDARD
TZOFFSETFROM:+0000
TZOFFSETTO:+0000
TZNAME:UTC
DTSTART:20240101T000000
END:STANDARD
END:VTIMEZONE
BEGIN:VEVENT
DTSTART;TZID=UTC:20250723T180000
DTEND;TZID=UTC:20250723T210000
DTSTAMP:20260423T064012
CREATED:20250312T001213Z
LAST-MODIFIED:20250312T124931Z
UID:10000264-1753293600-1753304400@www.deceptionpassgolfcenter.com
SUMMARY:Social Scramble
DESCRIPTION:Every Wednesday\, at 6 PM\, Social Scramble
URL:https://www.deceptionpassgolfcenter.com/event/league-night/2025-07-23/
CATEGORIES:Leagues
END:VEVENT
BEGIN:VEVENT
DTSTART;TZID=UTC:20250726T080000
DTEND;TZID=UTC:20250726T160000
DTSTAMP:20260423T064012
CREATED:20250312T002252Z
LAST-MODIFIED:20250312T002252Z
UID:10000345-1753516800-1753545600@www.deceptionpassgolfcenter.com
SUMMARY:Private Event Course Closed until 4 PM 
DESCRIPTION:Saturday\, JULY 26th Private Event Course Closed until 4 PM 
URL:https://www.deceptionpassgolfcenter.com/event/private-event-course-closed-until-4-pm/
CATEGORIES:Private Event
END:VEVENT
BEGIN:VEVENT
DTSTART;TZID=UTC:20250726T170000
DTEND;TZID=UTC:20250726T210000
DTSTAMP:20260423T064012
CREATED:20250312T002343Z
LAST-MODIFIED:20250312T002343Z
UID:10000346-1753549200-1753563600@www.deceptionpassgolfcenter.com
SUMMARY:GLOW GOLF WITH LIVE BAND 
DESCRIPTION:Saturday\, JULY 26th GLOW GOLF WITH LIVE BAND 
URL:https://www.deceptionpassgolfcenter.com/event/glow-golf-with-live-band/
END:VEVENT
END:VCALENDAR