BEGIN:VCALENDAR
VERSION:2.0
PRODID:-//Deception Pass Golf Center - ECPv6.15.18//NONSGML v1.0//EN
CALSCALE:GREGORIAN
METHOD:PUBLISH
X-ORIGINAL-URL:https://www.deceptionpassgolfcenter.com
X-WR-CALDESC:Events for Deception Pass Golf Center
REFRESH-INTERVAL;VALUE=DURATION:PT1H
X-Robots-Tag:noindex
X-PUBLISHED-TTL:PT1H
BEGIN:VTIMEZONE
TZID:UTC
BEGIN:STANDARD
TZOFFSETFROM:+0000
TZOFFSETTO:+0000
TZNAME:UTC
DTSTART:20240101T000000
END:STANDARD
END:VTIMEZONE
BEGIN:VEVENT
DTSTART;VALUE=DATE:20250503
DTEND;VALUE=DATE:20250504
DTSTAMP:20260424T135753
CREATED:20250312T001448Z
LAST-MODIFIED:20250424T223036Z
UID:10000333-1746230400-1746316799@www.deceptionpassgolfcenter.com
SUMMARY:May the 4th Be with you Glow Golf with live DJ 
DESCRIPTION:Saturday\, May 3rd  May the 4th Be with you Glow Golf with live DJ 
URL:https://www.deceptionpassgolfcenter.com/event/may-the-4th-be-with-you-glow-golf-with-live-dj/
END:VEVENT
BEGIN:VEVENT
DTSTART;VALUE=DATE:20250507
DTEND;VALUE=DATE:20250508
DTSTAMP:20260424T135753
CREATED:20250312T001530Z
LAST-MODIFIED:20250312T001531Z
UID:10000334-1746576000-1746662399@www.deceptionpassgolfcenter.com
SUMMARY:Sandwich Bar Opens Full time 
DESCRIPTION:Wednesday\, May 7th\, Sandwich Bar Opens Full time 
URL:https://www.deceptionpassgolfcenter.com/event/sandwich-bar-opens-full-time/
END:VEVENT
BEGIN:VEVENT
DTSTART;TZID=UTC:20250507T180000
DTEND;TZID=UTC:20250507T210000
DTSTAMP:20260424T135753
CREATED:20250312T001213Z
LAST-MODIFIED:20250312T124931Z
UID:10000253-1746640800-1746651600@www.deceptionpassgolfcenter.com
SUMMARY:Social Scramble
DESCRIPTION:Every Wednesday\, at 6 PM\, Social Scramble
URL:https://www.deceptionpassgolfcenter.com/event/league-night/2025-05-07/
CATEGORIES:Leagues
END:VEVENT
BEGIN:VEVENT
DTSTART;VALUE=DATE:20250511
DTEND;VALUE=DATE:20250512
DTSTAMP:20260424T135753
CREATED:20250312T001612Z
LAST-MODIFIED:20250312T001612Z
UID:10000335-1746921600-1747007999@www.deceptionpassgolfcenter.com
SUMMARY:MOTHER’S DAY
DESCRIPTION:Sunday\, May 11th– MOTHER’S DAY  Moms golf free with paying child 
URL:https://www.deceptionpassgolfcenter.com/event/mothers-day/
END:VEVENT
BEGIN:VEVENT
DTSTART;TZID=UTC:20250514T180000
DTEND;TZID=UTC:20250514T210000
DTSTAMP:20260424T135753
CREATED:20250312T001213Z
LAST-MODIFIED:20250312T124931Z
UID:10000254-1747245600-1747256400@www.deceptionpassgolfcenter.com
SUMMARY:Social Scramble
DESCRIPTION:Every Wednesday\, at 6 PM\, Social Scramble
URL:https://www.deceptionpassgolfcenter.com/event/league-night/2025-05-14/
CATEGORIES:Leagues
END:VEVENT
BEGIN:VEVENT
DTSTART;TZID=UTC:20250521T180000
DTEND;TZID=UTC:20250521T210000
DTSTAMP:20260424T135753
CREATED:20250312T001213Z
LAST-MODIFIED:20250312T124931Z
UID:10000255-1747850400-1747861200@www.deceptionpassgolfcenter.com
SUMMARY:Social Scramble
DESCRIPTION:Every Wednesday\, at 6 PM\, Social Scramble
URL:https://www.deceptionpassgolfcenter.com/event/league-night/2025-05-21/
CATEGORIES:Leagues
END:VEVENT
BEGIN:VEVENT
DTSTART;VALUE=DATE:20250524
DTEND;VALUE=DATE:20250525
DTSTAMP:20260424T135753
CREATED:20250312T001639Z
LAST-MODIFIED:20250312T001639Z
UID:10000336-1748044800-1748131199@www.deceptionpassgolfcenter.com
SUMMARY:MEMORIAL DAY GLOW GOLF WITH LIVE BAND 
DESCRIPTION:Saturday\, May 24th– MEMORIAL DAY GLOW GOLF WITH LIVE BAND 
URL:https://www.deceptionpassgolfcenter.com/event/memorial-day-glow-golf-with-live-band/
END:VEVENT
BEGIN:VEVENT
DTSTART;TZID=UTC:20250528T180000
DTEND;TZID=UTC:20250528T210000
DTSTAMP:20260424T135753
CREATED:20250312T001213Z
LAST-MODIFIED:20250312T124931Z
UID:10000256-1748455200-1748466000@www.deceptionpassgolfcenter.com
SUMMARY:Social Scramble
DESCRIPTION:Every Wednesday\, at 6 PM\, Social Scramble
URL:https://www.deceptionpassgolfcenter.com/event/league-night/2025-05-28/
CATEGORIES:Leagues
END:VEVENT
END:VCALENDAR