BEGIN:VCALENDAR
VERSION:2.0
PRODID:-//Deception Pass Golf Center - ECPv6.15.18//NONSGML v1.0//EN
CALSCALE:GREGORIAN
METHOD:PUBLISH
X-WR-CALNAME:Deception Pass Golf Center
X-ORIGINAL-URL:https://www.deceptionpassgolfcenter.com
X-WR-CALDESC:Events for Deception Pass Golf Center
REFRESH-INTERVAL;VALUE=DURATION:PT1H
X-Robots-Tag:noindex
X-PUBLISHED-TTL:PT1H
BEGIN:VTIMEZONE
TZID:UTC
BEGIN:STANDARD
TZOFFSETFROM:+0000
TZOFFSETTO:+0000
TZNAME:UTC
DTSTART:20240101T000000
END:STANDARD
END:VTIMEZONE
BEGIN:VEVENT
DTSTART;VALUE=DATE:20250802
DTEND;VALUE=DATE:20250803
DTSTAMP:20260423T050642
CREATED:20250312T002523Z
LAST-MODIFIED:20250312T002523Z
UID:10000348-1754092800-1754179199@www.deceptionpassgolfcenter.com
SUMMARY:Annual Summer Tournament 
DESCRIPTION:Saturday\, August 2nd – Annual Summer Tournament 
URL:https://www.deceptionpassgolfcenter.com/event/annual-summer-tournament/
END:VEVENT
END:VCALENDAR