BEGIN:VCALENDAR
VERSION:2.0
PRODID:-//Deception Pass Golf Center - ECPv6.15.18//NONSGML v1.0//EN
CALSCALE:GREGORIAN
METHOD:PUBLISH
X-ORIGINAL-URL:https://www.deceptionpassgolfcenter.com
X-WR-CALDESC:Events for Deception Pass Golf Center
REFRESH-INTERVAL;VALUE=DURATION:PT1H
X-Robots-Tag:noindex
X-PUBLISHED-TTL:PT1H
BEGIN:VTIMEZONE
TZID:UTC
BEGIN:STANDARD
TZOFFSETFROM:+0000
TZOFFSETTO:+0000
TZNAME:UTC
DTSTART:20240101T000000
END:STANDARD
END:VTIMEZONE
BEGIN:VEVENT
DTSTART;VALUE=DATE:20250503
DTEND;VALUE=DATE:20250504
DTSTAMP:20260424T135621
CREATED:20250312T001448Z
LAST-MODIFIED:20250424T223036Z
UID:10000333-1746230400-1746316799@www.deceptionpassgolfcenter.com
SUMMARY:May the 4th Be with you Glow Golf with live DJ 
DESCRIPTION:Saturday\, May 3rd  May the 4th Be with you Glow Golf with live DJ 
URL:https://www.deceptionpassgolfcenter.com/event/may-the-4th-be-with-you-glow-golf-with-live-dj/
END:VEVENT
END:VCALENDAR